BEGIN:VCALENDAR
VERSION:2.0
PRODID:-//Page Lake Lakeside Outing Club Inc.   - ECPv6.15.15//NONSGML v1.0//EN
CALSCALE:GREGORIAN
METHOD:PUBLISH
X-ORIGINAL-URL:https://page-lake.com
X-WR-CALDESC:Events for Page Lake Lakeside Outing Club Inc.  
REFRESH-INTERVAL;VALUE=DURATION:PT1H
X-Robots-Tag:noindex
X-PUBLISHED-TTL:PT1H
BEGIN:VTIMEZONE
TZID:America/New_York
BEGIN:DAYLIGHT
TZOFFSETFROM:-0500
TZOFFSETTO:-0400
TZNAME:EDT
DTSTART:20220313T070000
END:DAYLIGHT
BEGIN:STANDARD
TZOFFSETFROM:-0400
TZOFFSETTO:-0500
TZNAME:EST
DTSTART:20221106T060000
END:STANDARD
BEGIN:DAYLIGHT
TZOFFSETFROM:-0500
TZOFFSETTO:-0400
TZNAME:EDT
DTSTART:20230312T070000
END:DAYLIGHT
BEGIN:STANDARD
TZOFFSETFROM:-0400
TZOFFSETTO:-0500
TZNAME:EST
DTSTART:20231105T060000
END:STANDARD
BEGIN:DAYLIGHT
TZOFFSETFROM:-0500
TZOFFSETTO:-0400
TZNAME:EDT
DTSTART:20240310T070000
END:DAYLIGHT
BEGIN:STANDARD
TZOFFSETFROM:-0400
TZOFFSETTO:-0500
TZNAME:EST
DTSTART:20241103T060000
END:STANDARD
BEGIN:DAYLIGHT
TZOFFSETFROM:-0500
TZOFFSETTO:-0400
TZNAME:EDT
DTSTART:20250309T070000
END:DAYLIGHT
BEGIN:STANDARD
TZOFFSETFROM:-0400
TZOFFSETTO:-0500
TZNAME:EST
DTSTART:20251102T060000
END:STANDARD
BEGIN:DAYLIGHT
TZOFFSETFROM:-0500
TZOFFSETTO:-0400
TZNAME:EDT
DTSTART:20260308T070000
END:DAYLIGHT
BEGIN:STANDARD
TZOFFSETFROM:-0400
TZOFFSETTO:-0500
TZNAME:EST
DTSTART:20261101T060000
END:STANDARD
END:VTIMEZONE
BEGIN:VEVENT
DTSTART;TZID=America/New_York:20251101T090000
DTEND;TZID=America/New_York:20251101T220000
DTSTAMP:20260203T174820
CREATED:20240429T005751Z
LAST-MODIFIED:20251014T185955Z
UID:3202-1761987600-1762034400@page-lake.com
SUMMARY:Clubhouse Rented
DESCRIPTION:Patricia Decker
URL:https://page-lake.com/event/clubhouse-rented-6/
END:VEVENT
BEGIN:VEVENT
DTSTART;TZID=America/New_York:20250831T160000
DTEND;TZID=America/New_York:20250831T190000
DTSTAMP:20260203T174820
CREATED:20230403T150505Z
LAST-MODIFIED:20250704T121152Z
UID:2072-1756656000-1756666800@page-lake.com
SUMMARY:LOC Chicken BBQ
DESCRIPTION:Chicken BBQ for members. 4 Free Tickets per share \n\n\n\nSign up by Aug 11th. \n\n\n\nhttps://page-lake.com/signup-2025-bbq/
URL:https://page-lake.com/event/chicken-bbq/
LOCATION:LOC Clubhouse\, 25 Lake Shore Dr.\, Susquehanna\, PA\, 18847\, United States
END:VEVENT
BEGIN:VEVENT
DTSTART;TZID=America/New_York:20250830T100000
DTEND;TZID=America/New_York:20250830T220000
DTSTAMP:20260203T174820
CREATED:20240613T211829Z
LAST-MODIFIED:20250825T220608Z
UID:3535-1756548000-1756591200@page-lake.com
SUMMARY:Clubhouse Rented
DESCRIPTION:Kelsey Price
URL:https://page-lake.com/event/clubhouse-rented-8/
END:VEVENT
BEGIN:VEVENT
DTSTART;TZID=America/New_York:20250813T080000
DTEND;TZID=America/New_York:20250813T170000
DTSTAMP:20260203T174820
CREATED:20250806T184930Z
LAST-MODIFIED:20250806T185038Z
UID:6437-1755072000-1755104400@page-lake.com
SUMMARY:Sign-UP for The LOC BBQ Ends
DESCRIPTION:🍗 LOC Chicken BBQ – Sign Up Now! 🍗 \n\n\n\nHey everyone! Don’t forget to sign up for the LOC Chicken BBQ happening on Saturday\, August 31st from 4–7 PM at the Clubhouse! 🏡 \n\n\n\n👉 Sign up here: https://page-lake.com/signup-2025-bbq/
URL:https://page-lake.com/event/sign-up-for-bbq-ends/
END:VEVENT
BEGIN:VEVENT
DTSTART;TZID=America/New_York:20250802T090000
DTEND;TZID=America/New_York:20250802T130000
DTSTAMP:20260203T174820
CREATED:20220706T161236Z
LAST-MODIFIED:20250408T133103Z
UID:1708-1754125200-1754139600@page-lake.com
SUMMARY:Kids Fishing Derby
DESCRIPTION:Kids Fishing Derby hosted by the Blue Ridge Sportsman Club
URL:https://page-lake.com/event/fishing-derby/
END:VEVENT
BEGIN:VEVENT
DTSTART;TZID=America/New_York:20250726T063000
DTEND;TZID=America/New_York:20250726T103000
DTSTAMP:20260203T174820
CREATED:20250408T142904Z
LAST-MODIFIED:20250714T172847Z
UID:5143-1753511400-1753525800@page-lake.com
SUMMARY:Brian Busby Big Bass Tournament
DESCRIPTION:Brian Busby Big Bass Tournament    \n\n\n\nAll proceeds will be donated to the Brian Busby Memorial Scholarship \n\n\n\nhttps://www.gofundme.com/f/brian-busby-memorial-scholarship \n\n\n\n BRIAN BUSBY BIG BASS FISHING TOURNAMENT \n\n\n\n\n\n\n\n\n📍 Page Lake   |   📆 Saturday\, July 26th\, 2025🕖 Check-In: Friday\, July 25th at 7:00 PM – Clubhouse⏰ Tournament Hours: 6:30 AM – 10:00 AM \n\n\n\n\nEligibility & Registration\n\n\n\nOpen to all ages (under 16 must be with an adult) \n\n\n\nMust register the night before the tournament \n\n\n\n💵 Entry Fee: $50 per angler (due at check-in Friday 7:00 PM) \n\n\n\nFormat & Scoring\n\n\n\nCatch-and-measure format targeting Largemouth Bass \n\n\n\nMax 4 fish per live-well | Max 3 anglers per boat \n\n\n\nMeasured by total length or weight \n\n\n\nTie-breaker: Earliest check-in \n\n\n\nFishing Guidelines\n\n\n\nArtificial lures only – no live bait \n\n\n\nCasting only – no trolling \n\n\n\nOne rod per angler \n\n\n\nFish must be caught legally and ethically \n\n\n\nWeigh-Ins & Measurement\n\n\n\nBring fish in alive for check-in \n\n\n\nWeigh In Times: (7-8am) (8:01- 9am) (9:01- 10am ) \n\n\n\nUse approved boards and scales \n\n\n\nNo dead or mutilated fish will be accepted \n\n\n\nCASH PRIZES\n\n\n\n🏆 Hourly Payouts (at 8AM\, 9AM\, 10AM): \n\n\n\n🥇 1st Place: $100 \n\n\n\n🥈 2nd Place: $50 \n\n\n\n🐟 Overall Biggest Fish: $250 Grand Prize \n\n\n\nCash prizes donated by our sponsor Newcomb Outdoors. \n\n\n\n\n\n\n\nPermitted Waters & Safety\n\n\n\nFish only within designated areas \n\n\n\nMust comply with state & local laws \n\n\n\nLife jackets required when boat is moving \n\n\n\nNo alcohol or drugs allowed during tournament hours \n\n\n\nSportsmanship & Conduct\n\n\n\nRespect fellow anglers\, staff\, and wildlife \n\n\n\nNo cheating\, boat crowding\, or misconduct \n\n\n\nProtests must be made within 30 minutes of weigh-in \n\n\n\nWeather Policy\n\n\n\nTournament is rain or shine\, unless deemed unsafe \n\n\n\nNo refunds if canceled due to weather \n\n\n\nContact Info & Sign Up\n\n\n\nRandy DeAngelo \n\n\n\n📧 pagelakepres2020@gmail.com \n\n\n\n📱 336-255-4498 \n\n\n\n🌐 Page-Lake.com \n\n\n\n💬 GroupMe: Big Bass \n\n\n\n🎉 Join us for a fun\, action-packed morning of fishing!🎣 Tight lines and good luck to all anglers!
URL:https://page-lake.com/event/loc-bass-fishing-tournament/
END:VEVENT
BEGIN:VEVENT
DTSTART;TZID=America/New_York:20250720T100000
DTEND;TZID=America/New_York:20250720T220000
DTSTAMP:20260203T174820
CREATED:20240613T210846Z
LAST-MODIFIED:20250421T170739Z
UID:3528-1753005600-1753048800@page-lake.com
SUMMARY:Clubhouse Rented
DESCRIPTION:Deb Ucci
URL:https://page-lake.com/event/clubhouse-rented-7/
END:VEVENT
BEGIN:VEVENT
DTSTART;TZID=America/New_York:20250719T100000
DTEND;TZID=America/New_York:20250719T170000
DTSTAMP:20260203T174820
CREATED:20250717T192334Z
LAST-MODIFIED:20250717T192338Z
UID:6291-1752919200-1752944400@page-lake.com
SUMMARY:Kids Day at the Clubhouse
DESCRIPTION:Ice Cream Truck from 11AM – 1PM
URL:https://page-lake.com/event/kids-day-at-the-clubhouse/
END:VEVENT
BEGIN:VEVENT
DTSTART;TZID=America/New_York:20250705T211500
DTEND;TZID=America/New_York:20250705T213000
DTSTAMP:20260203T174820
CREATED:20220513T012155Z
LAST-MODIFIED:20250412T135531Z
UID:1087-1751750100-1751751000@page-lake.com
SUMMARY:LOC Fireworks
DESCRIPTION:Fireworks presented by The Lakeside Outing Club
URL:https://page-lake.com/event/fireworks/
END:VEVENT
BEGIN:VEVENT
DTSTART;TZID=America/New_York:20250705T210000
DTEND;TZID=America/New_York:20250705T211500
DTSTAMP:20260203T174820
CREATED:20250412T140038Z
LAST-MODIFIED:20250412T140042Z
UID:5201-1751749200-1751750100@page-lake.com
SUMMARY:Lighting of Flares
DESCRIPTION:Flares will be sold at the annual meeting.
URL:https://page-lake.com/event/lighting-of-flares/
END:VEVENT
BEGIN:VEVENT
DTSTART;TZID=America/New_York:20250705T130000
DTEND;TZID=America/New_York:20250705T180000
DTSTAMP:20260203T174820
CREATED:20240429T005637Z
LAST-MODIFIED:20250701T124028Z
UID:3200-1751720400-1751738400@page-lake.com
SUMMARY:Clubhouse Rented
DESCRIPTION:Danelle Decker
URL:https://page-lake.com/event/clubhouse-rented-5/
END:VEVENT
BEGIN:VEVENT
DTSTART;TZID=America/New_York:20250705T100000
DTEND;TZID=America/New_York:20250705T120000
DTSTAMP:20260203T174820
CREATED:20240429T003939Z
LAST-MODIFIED:20250617T030045Z
UID:3189-1751709600-1751716800@page-lake.com
SUMMARY:LOC Annual Meeting
DESCRIPTION:2025 Annual Meeting \n\n\n\n\n\nAnnualmeeting2025
URL:https://page-lake.com/event/loc-annual-meeting/
LOCATION:LOC Clubhouse\, 25 Lake Shore Dr.\, Susquehanna\, PA\, 18847\, United States
END:VEVENT
BEGIN:VEVENT
DTSTART;TZID=America/New_York:20250704T170000
DTEND;TZID=America/New_York:20250704T180000
DTSTAMP:20260203T174820
CREATED:20230626T110807Z
LAST-MODIFIED:20250704T165841Z
UID:2519-1751648400-1751652000@page-lake.com
SUMMARY:Boat Parade Text vote to                    607 768-4477
DESCRIPTION:Boat Parade starts at 5pm \n\n\n\n \n\n\n\nText your vote to 607 768-4477 \n\n\n\nRegister your boat at the Clubhouse at 4:30 PM
URL:https://page-lake.com/event/2023-boat-parade/
END:VEVENT
BEGIN:VEVENT
DTSTART;TZID=America/New_York:20250619T170000
DTEND;TZID=America/New_York:20250619T190000
DTSTAMP:20260203T174820
CREATED:20250616T232036Z
LAST-MODIFIED:20250616T232040Z
UID:5860-1750352400-1750359600@page-lake.com
SUMMARY:Potluck Social at the Clubhouse! 🍽️
DESCRIPTION:Bring a dish\, dessert\, or drink to share — homemade or store-bought\, it’s all welcome! Let’s enjoy good food\, great company\, and a relaxed evening together.
URL:https://page-lake.com/event/potluck-social-at-the-clubhouse-%f0%9f%8d%bd%ef%b8%8f/
END:VEVENT
BEGIN:VEVENT
DTSTART;TZID=America/New_York:20250615T080000
DTEND;TZID=America/New_York:20250615T170000
DTSTAMP:20260203T174820
CREATED:20240315T213302Z
LAST-MODIFIED:20250408T151720Z
UID:3057-1749974400-1750006800@page-lake.com
SUMMARY:Annual Dues Due
DESCRIPTION:LOC Annual Dues Due \n\n\n\n$150 Per Share \n\n\n\n\nPay Online
URL:https://page-lake.com/event/annual-dues-due/
END:VEVENT
BEGIN:VEVENT
DTSTART;TZID=America/New_York:20250415T080000
DTEND;TZID=America/New_York:20250419T170000
DTSTAMP:20260203T174820
CREATED:20250407T122804Z
LAST-MODIFIED:20250407T122808Z
UID:5118-1744704000-1745082000@page-lake.com
SUMMARY:Raise the Lake Level
DESCRIPTION:Boards will be added to raise the lake the level.
URL:https://page-lake.com/event/raise-the-lake-level/
END:VEVENT
BEGIN:VEVENT
DTSTART;TZID=America/New_York:20240811T080000
DTEND;TZID=America/New_York:20240811T170000
DTSTAMP:20260203T174820
CREATED:20240808T172716Z
LAST-MODIFIED:20240808T172852Z
UID:3838-1723363200-1723395600@page-lake.com
SUMMARY:Signup Ends for BBQ
DESCRIPTION:Sign up for the Chickent BBQ we need a final count by Aug 11th.
URL:https://page-lake.com/event/signup-ends-for-bbq/
END:VEVENT
BEGIN:VEVENT
DTSTART;TZID=America/New_York:20240719T190000
DTEND;TZID=America/New_York:20240719T230000
DTSTAMP:20260203T174820
CREATED:20240429T004255Z
LAST-MODIFIED:20240715T212825Z
UID:3192-1721415600-1721430000@page-lake.com
SUMMARY:Beer Band & Blackjack
DESCRIPTION:Odd Man Out is a three piece rock band from Southern Tier New York and Northern Pennsylvania. Good times & Good tunes. \n\n\n\nCash games of chance \n\n\n\nBlack Jack\, Left right Middle & other fun games
URL:https://page-lake.com/event/beer-band-blackjack/
LOCATION:LOC Clubhouse\, 25 Lake Shore Dr.\, Susquehanna\, PA\, 18847\, United States
END:VEVENT
BEGIN:VEVENT
DTSTART;TZID=America/New_York:20240713T120000
DTEND;TZID=America/New_York:20240713T190000
DTSTAMP:20260203T174820
CREATED:20240617T203416Z
LAST-MODIFIED:20240617T203416Z
UID:3551-1720872000-1720897200@page-lake.com
SUMMARY:CORN HOLE TOURNAMENT
DESCRIPTION:$20 per team.   Cash Prizes  \n\n\n\nTo sign up call or text Christen Renee Brady Beamer 607-221-0314 \n\n\n\nBYOB
URL:https://page-lake.com/event/corn-hole-tournament/
LOCATION:LOC Clubhouse\, 25 Lake Shore Dr.\, Susquehanna\, PA\, 18847\, United States
END:VEVENT
BEGIN:VEVENT
DTSTART;TZID=America/New_York:20240705T170000
DTEND;TZID=America/New_York:20240705T200000
DTSTAMP:20260203T174820
CREATED:20220601T010834Z
LAST-MODIFIED:20240705T180354Z
UID:1199-1720198800-1720209600@page-lake.com
SUMMARY:Food Truck and Beer Truck
DESCRIPTION:Click to see Menu
URL:https://page-lake.com/event/food-truck-giddy-up-and-go/
END:VEVENT
BEGIN:VEVENT
DTSTART;TZID=America/New_York:20240608T080000
DTEND;TZID=America/New_York:20240608T233000
DTSTAMP:20260203T174820
CREATED:20240429T005435Z
LAST-MODIFIED:20240429T005435Z
UID:3198-1717833600-1717889400@page-lake.com
SUMMARY:Clubhouse Rented
DESCRIPTION:
URL:https://page-lake.com/event/clubhouse-rented-4/
END:VEVENT
BEGIN:VEVENT
DTSTART;TZID=America/New_York:20240518T080000
DTEND;TZID=America/New_York:20240518T170000
DTSTAMP:20260203T174820
CREATED:20240429T112727Z
LAST-MODIFIED:20240429T112727Z
UID:3206-1716019200-1716051600@page-lake.com
SUMMARY:Boats removed Clubhouse
DESCRIPTION:All boats must be removed from the Clubhouse by May 18\,2024
URL:https://page-lake.com/event/boats-removed-clubhouse/
END:VEVENT
BEGIN:VEVENT
DTSTART;TZID=America/New_York:20231015T080000
DTEND;TZID=America/New_York:20231015T170000
DTSTAMP:20260203T174820
CREATED:20220906T165046Z
LAST-MODIFIED:20230803T150520Z
UID:1842-1697356800-1697389200@page-lake.com
SUMMARY:Lowering of the Lake
DESCRIPTION:The lake will be lowered on Oct 15th
URL:https://page-lake.com/event/lowering-of-the-lake/
END:VEVENT
BEGIN:VEVENT
DTSTART;TZID=America/New_York:20230724T080000
DTEND;TZID=America/New_York:20230724T090000
DTSTAMP:20260203T174820
CREATED:20230710T015312Z
LAST-MODIFIED:20230710T015315Z
UID:2567-1690185600-1690189200@page-lake.com
SUMMARY:WNEP News is coming to Page Lake
DESCRIPTION:Mark your calendars!   On Monday\, July 24\, Joe Snedeker\, the morning WNEP News Watch 16 meteorologist\, is coming to Page Lake to visit “Godzilla”as part of his 2023 “Go Joe” bike tour to raise money for St. Joseph’s Center\, an organization dedicated to aiding children and young adults with severe mental and physical disabilities. Joe plans to make a stop and film a news segment at the Paul Scott/Judy Philips residence at 94 Warren Park Road on Monday\, July 24\, from approximately 8:00 – 9:00 am. The news segment will be aired on that day’s noon forecast broadcast and replayed periodically during coverage of the annual “Go Joe” benefit.  All are welcome to stop by and say hi to Joe that morning by either land or lake.  Members from St. Joseph’s Center will be on site and have “Go Joe” shirts and hats for sale.  Anyone wishing to donate to St. Joe’s may also drop off checks made payable to St. Joseph’s Center at 94 Warren Park Road.  All checks will be presented to Joe on the 24th. Further information about St. Joseph’s Center and the tour is available at the below links. St Joseph’s CenterGo Joe
URL:https://page-lake.com/event/wnep-news-is-coming-to-page-lake/
LOCATION:Paul Scott/Judy Philips residence\, 94 Warren Park Rd\, New Milford\, 18834
END:VEVENT
BEGIN:VEVENT
DTSTART;TZID=America/New_York:20230722T190000
DTEND;TZID=America/New_York:20230722T220000
DTSTAMP:20260203T174820
CREATED:20230403T125906Z
LAST-MODIFIED:20230721T115432Z
UID:2069-1690052400-1690063200@page-lake.com
SUMMARY:Casino Night
DESCRIPTION:Casino Night at the Clubhouse.
URL:https://page-lake.com/event/casino-night/
LOCATION:LOC Clubhouse\, 25 Lake Shore Dr.\, Susquehanna\, PA\, 18847\, United States
END:VEVENT
BEGIN:VEVENT
DTSTART;TZID=America/New_York:20230715T080000
DTEND;TZID=America/New_York:20230715T120000
DTSTAMP:20260203T174820
CREATED:20230403T125538Z
LAST-MODIFIED:20230403T125541Z
UID:2065-1689408000-1689422400@page-lake.com
SUMMARY:Boat Safety Course
DESCRIPTION:PA Fishing commission will be providing a boating safety course.   Sign up through Chris Lake secretary.pagelake@gmail.com by June 15th.
URL:https://page-lake.com/event/boat-safety-course-2/
LOCATION:LOC Clubhouse\, 25 Lake Shore Dr.\, Susquehanna\, PA\, 18847\, United States
ORGANIZER;CN="Chris Lake":MAILTO:secretary.pagelake@gmail.com
END:VEVENT
BEGIN:VEVENT
DTSTART;TZID=America/New_York:20230711T080000
DTEND;TZID=America/New_York:20230721T170000
DTSTAMP:20260203T174820
CREATED:20230711T155754Z
LAST-MODIFIED:20230711T155758Z
UID:2606-1689062400-1689958800@page-lake.com
SUMMARY:BBQ Sign-up
DESCRIPTION:RSVP to the LOC BBQ on August 5th   Click on link below \n\n\n\n\nhttps://page-lake.com/signup-2023-bbq/
URL:https://page-lake.com/event/bbq-sign-up/
END:VEVENT
BEGIN:VEVENT
DTSTART;TZID=America/New_York:20230708T080000
DTEND;TZID=America/New_York:20230708T120000
DTSTAMP:20260203T174820
CREATED:20230403T125133Z
LAST-MODIFIED:20230403T125136Z
UID:2058-1688803200-1688817600@page-lake.com
SUMMARY:Boat Safety Course
DESCRIPTION:PA Fishing commission will be providing a boating safety course.   Sign up through Chris Lake secretary.pagelake@gmail.com by June 15th.
URL:https://page-lake.com/event/boat-safety-course/
LOCATION:LOC Clubhouse\, 25 Lake Shore Dr.\, Susquehanna\, PA\, 18847\, United States
ORGANIZER;CN="Chris Lake":MAILTO:secretary.pagelake@gmail.com
END:VEVENT
BEGIN:VEVENT
DTSTART;TZID=America/New_York:20230704T120000
DTEND;TZID=America/New_York:20230704T130000
DTSTAMP:20260203T174820
CREATED:20230703T145056Z
LAST-MODIFIED:20230703T145105Z
UID:2545-1688472000-1688475600@page-lake.com
SUMMARY:Vote Boat Parade
DESCRIPTION:Text your vote to 607-441-4150
URL:https://page-lake.com/event/vote-boat-parade/
END:VEVENT
BEGIN:VEVENT
DTSTART;TZID=America/New_York:20230701T210000
DTEND;TZID=America/New_York:20230701T213000
DTSTAMP:20260203T174820
CREATED:20230403T124351Z
LAST-MODIFIED:20230403T124355Z
UID:2055-1688245200-1688247000@page-lake.com
SUMMARY:Lighting of the Flares and Fireworks
DESCRIPTION:Lighting of the Flares and Firework 9PM
URL:https://page-lake.com/event/lighting-of-the-flares-and-fireworks/
END:VEVENT
END:VCALENDAR