BEGIN:VCALENDAR
VERSION:2.0
PRODID:-//Page Lake Lakeside Outing Club Inc.   - ECPv6.15.20//NONSGML v1.0//EN
CALSCALE:GREGORIAN
METHOD:PUBLISH
X-WR-CALNAME:Page Lake Lakeside Outing Club Inc.  
X-ORIGINAL-URL:https://page-lake.com
X-WR-CALDESC:Events for Page Lake Lakeside Outing Club Inc.  
REFRESH-INTERVAL;VALUE=DURATION:PT1H
X-Robots-Tag:noindex
X-PUBLISHED-TTL:PT1H
BEGIN:VTIMEZONE
TZID:America/New_York
BEGIN:DAYLIGHT
TZOFFSETFROM:-0500
TZOFFSETTO:-0400
TZNAME:EDT
DTSTART:20250309T070000
END:DAYLIGHT
BEGIN:STANDARD
TZOFFSETFROM:-0400
TZOFFSETTO:-0500
TZNAME:EST
DTSTART:20251102T060000
END:STANDARD
BEGIN:DAYLIGHT
TZOFFSETFROM:-0500
TZOFFSETTO:-0400
TZNAME:EDT
DTSTART:20260308T070000
END:DAYLIGHT
BEGIN:STANDARD
TZOFFSETFROM:-0400
TZOFFSETTO:-0500
TZNAME:EST
DTSTART:20261101T060000
END:STANDARD
BEGIN:DAYLIGHT
TZOFFSETFROM:-0500
TZOFFSETTO:-0400
TZNAME:EDT
DTSTART:20270314T070000
END:DAYLIGHT
BEGIN:STANDARD
TZOFFSETFROM:-0400
TZOFFSETTO:-0500
TZNAME:EST
DTSTART:20271107T060000
END:STANDARD
END:VTIMEZONE
BEGIN:VEVENT
DTSTART;TZID=America/New_York:20260415T080000
DTEND;TZID=America/New_York:20260422T170000
DTSTAMP:20260425T093001
CREATED:20250407T122804Z
LAST-MODIFIED:20260413T124420Z
UID:5118-1776240000-1776877200@page-lake.com
SUMMARY:Raise the Lake Level
DESCRIPTION:Boards will be added to raise the lake the level.
URL:https://page-lake.com/event/raise-the-lake-level/
END:VEVENT
BEGIN:VEVENT
DTSTART;TZID=America/New_York:20260530T090000
DTEND;TZID=America/New_York:20260531T220000
DTSTAMP:20260425T093001
CREATED:20240429T005751Z
LAST-MODIFIED:20260423T113121Z
UID:3202-1780131600-1780264800@page-lake.com
SUMMARY:Clubhouse Rented
DESCRIPTION:Steve Reinhart
URL:https://page-lake.com/event/clubhouse-rented-6/
END:VEVENT
BEGIN:VEVENT
DTSTART;TZID=America/New_York:20260615T080000
DTEND;TZID=America/New_York:20260615T170000
DTSTAMP:20260425T093001
CREATED:20240315T213302Z
LAST-MODIFIED:20260413T122914Z
UID:3057-1781510400-1781542800@page-lake.com
SUMMARY:Annual Dues Due $225
DESCRIPTION:LOC Annual Dues Due \n\n\n\n$225 Per Share \n\n\n\n\nPay Online
URL:https://page-lake.com/event/annual-dues-due/
END:VEVENT
BEGIN:VEVENT
DTSTART;TZID=America/New_York:20260704T100000
DTEND;TZID=America/New_York:20260704T120000
DTSTAMP:20260425T093001
CREATED:20240429T003939Z
LAST-MODIFIED:20260423T115253Z
UID:3189-1783159200-1783166400@page-lake.com
SUMMARY:LOC Annual Meeting
DESCRIPTION:2026 Annual Meeting
URL:https://page-lake.com/event/loc-annual-meeting/
LOCATION:LOC Clubhouse\, 25 Lake Shore Dr.\, Susquehanna\, PA\, 18847\, United States
END:VEVENT
BEGIN:VEVENT
DTSTART;TZID=America/New_York:20260704T163000
DTEND;TZID=America/New_York:20260704T180000
DTSTAMP:20260425T093001
CREATED:20230626T110807Z
LAST-MODIFIED:20260423T115710Z
UID:2519-1783182600-1783188000@page-lake.com
SUMMARY:Boat Parade
DESCRIPTION:Boat Parade starts at 4pm \n\n\n\n \n\n\n\n \n\n\n\nRegister your boat at the Clubhouse at 4:30 PM
URL:https://page-lake.com/event/2023-boat-parade/
END:VEVENT
BEGIN:VEVENT
DTSTART;TZID=America/New_York:20260704T210000
DTEND;TZID=America/New_York:20260704T211500
DTSTAMP:20260425T093001
CREATED:20250412T140038Z
LAST-MODIFIED:20260423T115101Z
UID:5201-1783198800-1783199700@page-lake.com
SUMMARY:Lighting of Flares
DESCRIPTION:Flares will be sold at the annual meeting.
URL:https://page-lake.com/event/lighting-of-flares/
END:VEVENT
BEGIN:VEVENT
DTSTART;TZID=America/New_York:20260704T211500
DTEND;TZID=America/New_York:20260704T213000
DTSTAMP:20260425T093001
CREATED:20220513T012155Z
LAST-MODIFIED:20260423T115020Z
UID:1087-1783199700-1783200600@page-lake.com
SUMMARY:LOC Fireworks
DESCRIPTION:Fireworks presented by The Lakeside Outing Club
URL:https://page-lake.com/event/fireworks/
END:VEVENT
BEGIN:VEVENT
DTSTART;TZID=America/New_York:20260718T130000
DTEND;TZID=America/New_York:20260719T180000
DTSTAMP:20260425T093001
CREATED:20240429T005637Z
LAST-MODIFIED:20260413T123828Z
UID:3200-1784379600-1784484000@page-lake.com
SUMMARY:Clubhouse Rented
DESCRIPTION:Lynne Furch
URL:https://page-lake.com/event/clubhouse-rented-5/
END:VEVENT
BEGIN:VEVENT
DTSTART;TZID=America/New_York:20260725T100000
DTEND;TZID=America/New_York:20260725T170000
DTSTAMP:20260425T093001
CREATED:20250717T192334Z
LAST-MODIFIED:20260423T114923Z
UID:6291-1784973600-1784998800@page-lake.com
SUMMARY:Kids Day at the Clubhouse
DESCRIPTION:
URL:https://page-lake.com/event/kids-day-at-the-clubhouse/
END:VEVENT
BEGIN:VEVENT
DTSTART;TZID=America/New_York:20260801T063000
DTEND;TZID=America/New_York:20260801T103000
DTSTAMP:20260425T093001
CREATED:20250408T142904Z
LAST-MODIFIED:20260423T114755Z
UID:5143-1785565800-1785580200@page-lake.com
SUMMARY:Brian Busby Big Bass Tournament
DESCRIPTION:Brian Busby Big Bass Tournament    \n\n\n\nAll proceeds will be donated to the Brian Busby Memorial Scholarship \n\n\n\nhttps://www.gofundme.com/f/brian-busby-memorial-scholarship \n\n\n\n BRIAN BUSBY BIG BASS FISHING TOURNAMENT \n\n\n\n\n\n\n\n\n📍 Page Lake   |   📆 Saturday\, August 1\, 2026🕖 Check-In: Friday\, July 31st at 7:00 PM – Clubhouse⏰ Tournament Hours: 6:30 AM – 10:00 AM \n\n\n\n\nEligibility & Registration\n\n\n\nOpen to all ages (under 16 must be with an adult) \n\n\n\nMust register the night before the tournament \n\n\n\n💵 Entry Fee: $50 per angler (due at check-in Friday 7:00 PM) \n\n\n\nFormat & Scoring\n\n\n\nCatch-and-measure format targeting Largemouth Bass \n\n\n\nMax 4 fish per live-well | Max 3 anglers per boat \n\n\n\nMeasured by total length or weight \n\n\n\nTie-breaker: Earliest check-in \n\n\n\nFishing Guidelines\n\n\n\nArtificial lures only – no live bait \n\n\n\nCasting only – no trolling \n\n\n\nOne rod per angler \n\n\n\nFish must be caught legally and ethically \n\n\n\nWeigh-Ins & Measurement\n\n\n\nBring fish in alive for check-in \n\n\n\nWeigh In Times: (7-8am) (8:01- 9am) (9:01- 10am ) \n\n\n\nUse approved boards and scales \n\n\n\nNo dead or mutilated fish will be accepted \n\n\n\nCASH PRIZES\n\n\n\n🏆 Hourly Payouts (at 8AM\, 9AM\, 10AM): \n\n\n\n🥇 1st Place: $100 \n\n\n\n🥈 2nd Place: $50 \n\n\n\n🐟 Overall Biggest Fish: $250 Grand Prize \n\n\n\nCash prizes donated by our sponsor Newcomb Outdoors. \n\n\n\n\n\n\n\nPermitted Waters & Safety\n\n\n\nFish only within designated areas \n\n\n\nMust comply with state & local laws \n\n\n\nLife jackets required when boat is moving \n\n\n\nNo alcohol or drugs allowed during tournament hours \n\n\n\nSportsmanship & Conduct\n\n\n\nRespect fellow anglers\, staff\, and wildlife \n\n\n\nNo cheating\, boat crowding\, or misconduct \n\n\n\nProtests must be made within 30 minutes of weigh-in \n\n\n\nWeather Policy\n\n\n\nTournament is rain or shine\, unless deemed unsafe \n\n\n\nNo refunds if canceled due to weather \n\n\n\nContact Info & Sign Up\n\n\n\nRandy DeAngelo \n\n\n\n📧 pagelakepres2020@gmail.com \n\n\n\n📱 336-255-4498 \n\n\n\n🌐 Page-Lake.com \n\n\n\n💬 GroupMe: Big Bass \n\n\n\n🎉 Join us for a fun\, action-packed morning of fishing!🎣 Tight lines and good luck to all anglers!
URL:https://page-lake.com/event/loc-bass-fishing-tournament/
END:VEVENT
BEGIN:VEVENT
DTSTART;TZID=America/New_York:20260807T100000
DTEND;TZID=America/New_York:20260808T220000
DTSTAMP:20260425T093001
CREATED:20240613T211829Z
LAST-MODIFIED:20260413T124234Z
UID:3535-1786096800-1786226400@page-lake.com
SUMMARY:Clubhouse Rented
DESCRIPTION:Christen Beamer
URL:https://page-lake.com/event/clubhouse-rented-8/
END:VEVENT
BEGIN:VEVENT
DTSTART;TZID=America/New_York:20260905T090000
DTEND;TZID=America/New_York:20260905T130000
DTSTAMP:20260425T093001
CREATED:20220706T161236Z
LAST-MODIFIED:20260423T115354Z
UID:1708-1788598800-1788613200@page-lake.com
SUMMARY:Kids Fishing Derby
DESCRIPTION:Kids Fishing Derby hosted by the Blue Ridge Sportsman Club
URL:https://page-lake.com/event/fishing-derby/
END:VEVENT
END:VCALENDAR